BEGIN:VCALENDAR
VERSION:2.0
PRODID:-//Julianne Dow - ECPv6.0.12//NONSGML v1.0//EN
CALSCALE:GREGORIAN
METHOD:PUBLISH
X-WR-CALNAME:Julianne Dow
X-ORIGINAL-URL:https://juliannedow.com
X-WR-CALDESC:Events for Julianne Dow
REFRESH-INTERVAL;VALUE=DURATION:PT1H
X-Robots-Tag:noindex
X-PUBLISHED-TTL:PT1H
BEGIN:VTIMEZONE
TZID:America/New_York
BEGIN:DAYLIGHT
TZOFFSETFROM:-0500
TZOFFSETTO:-0400
TZNAME:EDT
DTSTART:20260308T070000
END:DAYLIGHT
BEGIN:STANDARD
TZOFFSETFROM:-0400
TZOFFSETTO:-0500
TZNAME:EST
DTSTART:20261101T060000
END:STANDARD
END:VTIMEZONE
BEGIN:VEVENT
DTSTART;TZID=America/New_York:20260504T160000
DTEND;TZID=America/New_York:20260601T180000
DTSTAMP:20260420T025601
CREATED:20260416T234934Z
LAST-MODIFIED:20260416T234934Z
UID:4346-1777910400-1780336800@juliannedow.com
SUMMARY:Jin Shin Jyutsu Self-Help Beta Class for Yoga Teachers
DESCRIPTION:  \nKnowledge is to make a life. Wisdom is to live a life. \n-Mary Burmeister \nJoin the Dow Integrative Institute in a Jin Shin Jyutsu Self-Help Beta class to learn the fundamentals of this ancient Japanese healing art that empowers you to care for yourself and your emotional and physical needs. Jin Shin Jyutsu is “like acupuncture\, but without the needles”. We use only our hands to ‘jumper-cable’ the life force energy in the body for optimal healing and harmony to take place. This class is designed for Yoga Teachers to learn these self-help protocols shared by Mary Burmeister\, who brought this healing Art to the West. It is our intention to empower you to impart this knowledge and practice to your students\, integrating self-help into your yoga curriculum and into their lives. We will delve into Mary’s 3 Self-Help books together and practice these protocols in ‘real time’\, like a yoga class. \nThis is a sitting and lying down practice\, so be ready to sit in a comfy chair\, lie on a yoga mat or bed nearby\, and a quiet\, relaxing space. We will meet starting Monday\, May 4th from 4-6pm online until June 1st (excluding Memorial Day). We will start there and see where this takes us. You will be sent a Google Meet link that you will use every time. This is a no-cost class for you as I am researching how to best teach this curriculum to others with the added future benefit of a 20-30hr Yoga Alliance CEU credit training. I already have a 3 CEU credit course of the same topic. This class would be more extensive. \nIt is recommended to purchase Mary’s 3 books\, but it is not essential. To purchase\, click on this link: Set of 3 Books \nJulianne Roshan Dow is a RYT500 Yoga Teacher\, as well as a Jin Shin Jyutsu practitioner and self-help teacher. She also applies this Art with animals. \nEmail Julianne Roshan directly if you are interested in joining the group. After May 4th\, the class is closed. \n  \n 
URL:https://juliannedow.com/event/jin-shin-jyutsu-self-help-beta-class-for-yoga-teachers/
LOCATION:Dow Integrative Institute\, 23 Maple St\, Kent\, CT\, 06757\, United States
ATTACH;FMTTYPE=image/jpeg:https://juliannedow.com/wp-content/uploads/2024/08/Mudra-3-scaled.jpg
ORGANIZER;CN="Dow%20Integrative%20Institute":MAILTO:jdowjsj@gmail.com
END:VEVENT
BEGIN:VEVENT
DTSTART;VALUE=DATE:20260516
DTEND;VALUE=DATE:20260517
DTSTAMP:20260420T025601
CREATED:20260325T022233Z
LAST-MODIFIED:20260325T022233Z
UID:4332-1778889600-1778975999@juliannedow.com
SUMMARY:Newtown Strutt the Mutt: Dow Integrative Animal Health
DESCRIPTION:Meet with Julianne at the Dow Integrative Institute’s yellow tent at the Newtown Strutt the Mutt from 11:00am-2:00pm on Saturday\, May 16th (raindate (May 17th). Register for a 15 minute session for you to learn how to help your dog and your dog to receive your loving and newly informed hands. Julianne will coach you and empower you to help care for your dog’s wellness. These healing modalities apply to all animals\, and is not a substitute for veterinarian care\, but rather\, a complement. It’s like “Chinese acupuncture\, but without the needles”. \nTo learn more about Dow Integrative Animal Health\, click on the name. \nTo learn more about Dow Integrative Institute that offers holistic health for both people and animals\, click on the name. \nLocation: Fairfield Hill Campus\, Newtown\, CT
URL:https://juliannedow.com/event/newtown-strutt-the-mutt-dow-integrative-animal-health/
ATTACH;FMTTYPE=image/png:https://juliannedow.com/wp-content/uploads/2026/03/Screenshot-2026-03-24-at-9.59.43-PM.png
ORGANIZER;CN="Dow%20Integrative%20Institute":MAILTO:jdowjsj@gmail.com
END:VEVENT
END:VCALENDAR